BEGIN:VCALENDAR
TZID:Europe/Berlin
VERSION:2.0
PRODID:-//LUX – Junge Kirche//NONSGML LUX Events v1.0//EN
CALSCALE:GREGORIAN
BEGIN:VEVENT
DTSTART:20241115T160000
DTEND:20241115T170000
UID:480A373D-CD83-4F25-8C3F-CB9E965A48A0
DTSTAMP:20241022T110434
LOCATION:LUX – Junge Kirche Nürnberg\, Leipziger Str. 25\, 90491 Nürnberg
SUMMARY:LUX: Community Freizeit  – gemeinsam unterwegs
DESCRIPTION:https://www.lux-jungekirche.de/veranstaltung/120/co
 mmunity-freizeit/\n\nFreitag bis Sonntag ( 15.11 - 17.11.2024) 
  wollen wir zusammen auf Community Freizeit fahren. Ein Wochene
 nde mit Spaß\, Gemeinschaft\, zusammen chillen und gemeinsam un
 terwegs sein. Ein Highlight in diesem Jahr: Bei einem Krimidinn
 er schlüpfen wir in die Rollen von Verdächtigen und Kläger*inne
 n. \nStart ist am Freitag um 16 Uhr an der LUX. Am Sonntag komm
 en wir gegen 15:30 Uhr zurück. \n\nSo kannst du dabei sein:\n\n
 Kaufe dir deine Eintrittskarte zu deinem Tarif!\n\nTarif 1: Sch
 üler*innen\, Studis und “knapp bei Kasse”: 50€\nTarif 2: Arbeit
 ende und "ich hab 10€ über": 60€\n\nDenk daran: nach der Bestel
 lung muss der Betrag überwiesen werden. Solltest du Probleme be
 im Ticketkauf haben oder einen finanziellen Zuschuss brauchen\,
  melde dich gerne bei Laura.\n\nAnmeldeschluss ist Freitag\, de
 r 08.11\, 08:00 Uhr. Danach bekommst du einen Brief mit ausführ
 lichen Informationen.\n\nHausanschrift: Jugendcamp Vestenbergsg
 reuth Schmidsleiten\, 91487 Vestenbergsgreuth
URL;VALUE=URI:https://www.lux-jungekirche.de/veranstaltung/120/community-freizeit/
END:VEVENT
END:VCALENDAR
