BEGIN:VCALENDAR
TZID:Europe/Berlin
VERSION:2.0
PRODID:-//LUX – Junge Kirche//NONSGML LUX Events v1.0//EN
CALSCALE:GREGORIAN
BEGIN:VEVENT
DTSTART:20250520T190000
DTEND:20250520T200000
UID:A5CE24C7-5E7A-4D5C-9D45-A8FA0E5E903B
DTSTAMP:20241203T105116
LOCATION:LUX – Junge Kirche Nürnberg\, Leipziger Str. 25\, 90491 Nürnberg
SUMMARY:LUX: YOGA+ – Körperübungen und Gebet
DESCRIPTION:https://www.lux-jungekirche.de/veranstaltung/130/yo
 ga/\n\nWir sehnen uns nach Verbundenheit und Tiefe: mit uns sel
 bst\, Gott und dadurch auch mit anderen um uns herum. Dabei spi
 elt der Körper eine wertvolle Rolle.\nWir machen uns an vier Ab
 enden gemeinsam auf die Suche nach dem Verbindenden zwischen Kö
 rperübungen aus dem Yoga und christlichen Meditations- und Gebe
 tsformen.\n\nAll levels\nFür jeden und jede ist der Ausgangspun
 kt auf dem Weg woanders. Gemeinsam erspüren wir die Verbindunge
 n und tauschen uns darüber aus. Vielleicht bist du schon geübte
  Yoga-Praktizierende*r- oder kennst dich mit christlichen Gebet
 sformen aus?\n\nLeitung\nAngeleitet werden die Yoga+ Übungen un
 d Meditationen von Yogalehrerin Antonia Frankenberger. Die Stun
 den sind jeweils 75 Minuten lang. Bringt eure Matte bitte selbs
 t mit\, wir können nur wenige ausleihen. Im Anschluss ist Zeit 
 für ein Glas Tee und Austausch. \n\nTermine\nDienstags\, 06.05 
 | 13.05 |20.05 | 03.06\; jeweils 19.00 -20:30 Uhr\n\nZielgruppe
 \nAlle\, die Lust haben Gebet und Körperübungen zu verbinden. E
 gal\, wie alt du bist und ob du Yoga - Vorerfahrung hast.\n\nSo
 nstiges\nYogamatte und Klötze bitte selbst mitnehmen. Ein paar 
 Matten und Klötze sind vorhanden. Es gibt vor Ort Möglichkeiten
  zum Umziehen. \n\nUnkosten und Anmeldung\nDas Angebot ist kost
 enfrei. Für Spenden\, die die Unkosten decken\, steht ein Körbc
 hen bereit. \nBitte melde Dich bei Laura (Laura.hertkorn@elkb.d
 e) verbindlich für die Termine an. Falls du bei einem nicht kom
 men kannst\, schreib uns gerne trotzdem. Kommen acht Anmeldunge
 n zustande\, bestätigen wir das Stattfinden des Kurses am Diens
 tag\, den 29. April 2025. \n\nWir machen Yoga+ inspiriert von d
 er Münchner Community und MUT-Projekt Munich Church Refresh\n
URL;VALUE=URI:https://www.lux-jungekirche.de/veranstaltung/130/yoga/
END:VEVENT
END:VCALENDAR
