BEGIN:VCALENDAR
TZID:Europe/Berlin
VERSION:2.0
PRODID:-//LUX – Junge Kirche//NONSGML LUX Events v1.0//EN
CALSCALE:GREGORIAN
BEGIN:VEVENT
DTSTART:20270228T193000
DTEND:20270228T203000
UID:A4DA9FE1-D021-4EB3-85BE-3B8AE281AC95
DTSTAMP:20251201T160032
LOCATION:LUX – Junge Kirche Nürnberg\, Leipziger Str. 25\, 90491 Nürnberg
SUMMARY:LUX: Teresa Reichl – Grober Unfug
DESCRIPTION:https://www.lux-jungekirche.de/veranstaltung/188/te
 resa-reichl/\n\nNeue Tour: Grober Unfug\n>>> Infos folgen!\n\nT
 eresa Reichl wurde 1996 in Haunersdorf bei Simbach bei Landau a
 n der Isar (ja so klein ist das Dorf) geboren. Nach dem Abitur 
 verabschiedete sie sich 2015 und zog nach Regensburg\, um dort 
 Lehramt für Deutsch und Englisch an Gymnasien\nzu studieren. Qu
 asi gleichzeitig hatte sie ihren ersten Slam Auftritt in der Al
 ten Mälzerei. Seitdem tritt Teresa ca. 100 mal im Jahr Bühnen i
 m deutschsprachigen Raum auf. 2016 wurde sie bayerische U20 Mei
 sterin\, was ihr eine Teilnahme am Finale der internationalen\n
 deutschsprachigen U20 Meisterschaften in Magdeburg bescherte. W
 eitere Teilnahmen an zahlreichen Meisterschaften folgten\, an w
 elchen Teresa ihre Wahlheimat Regensburg vertrat.\nAuch aufgrun
 d ihres Studiums und der großen Begeisterung an der Arbeit mit 
 Kindern und Jugendlichen begann Teresa Workshops an Schulen zu 
 geben. Seitdem veranstaltet sie jährlich einen\nWorkshop am Gym
 nasium in Landau und einen U20 Slam im Rahmen der Jugendkulturt
 age.\n\nEinlass: 19 Uhr\nBeginn: 19.30 Uhr\n\nVorverkauf: zzgl.
  Systemgebühr\n\nNormal: 28 €\nVermerk B: 28 € (Ein*e Rollstuhl
 fahrer*in mit Vermerk B im Ausweis darf eine freie Begleitperso
 n mitbringen. Bitte Nachweis vorlegen. \n\nAbendkasse: tba
URL;VALUE=URI:https://www.lux-jungekirche.de/veranstaltung/188/teresa-reichl/
END:VEVENT
END:VCALENDAR
