BEGIN:VCALENDAR
TZID:Europe/Berlin
VERSION:2.0
PRODID:-//LUX – Junge Kirche//NONSGML LUX Events v1.0//EN
CALSCALE:GREGORIAN
BEGIN:VEVENT
DTSTART:20260424T180000
DTEND:20260424T190000
UID:55F81A0A-5874-4BE6-BF06-E2AD7C1FB2EE
DTSTAMP:20260304T140000
LOCATION:LUX – Junge Kirche Nürnberg\, Leipziger Str. 25\, 90491 Nürnberg
SUMMARY:LUX: FLINTA*-Wochenende 24. - 26.4.2026 – Programmübers
 icht
DESCRIPTION:https://www.lux-jungekirche.de/veranstaltung/199/fl
 inta-wochenende-24-26-4-2026/\n\nFLINTA*-Wochenende vom 24. bis
  26. April 2026\n\nVON FLINTA* FÜR FLINTA*\nAusgewählte Events 
 öffnen wir bewusst auch für ALLE\, die sich solidarisch zeigen 
 wollen.\n\nFLINTA* steht für Frauen\, Lesben und intergeschlech
 tliche\, nicht-binäre\, trans-\, agender Personen. \n*Das Stern
 chen soll markieren\, dass auch weitere Personen angesprochen w
 erden\, die aufgrund ihrer Identitäten Marginalisierung und Dis
 kriminierung erfahren. \n(Quelle: https://gemeinsam-gegen-sexis
 mus.de/glossar-posts/flinta)\n\nHier findest du eine Übersicht 
 über das gesamte Programm. Mehr Infos zu den einzelnen Veransta
 ltungen findest du gesondert auf unserer Homepage.\n\n\nFreitag
  24.04.2026\n\n18:00 - 21:30 Uhr Tattoos von kikis titti tats\n
 19:00 - 21:30 Uhr Open Stage MACHT MIT\n22:00 - 01:00 Uhr Party
  "Auf uns" mit Anya und Poffi vom FLINTA*-DJ-Kollektiv fierce-f
 low\n\nSamstag 25.04.2026\n\n10:00 - 12:00 Uhr Workshop: Yoga m
 it Lea Schaumburger\, Yogalehrerin\n10:00 - 12:00 Uhr Workshop:
  Meine Vulva - Körper-Wissen und Empowerment mit Merle Zapfe\, 
 FMGZ\n\n13:00 - 15:00 Uhr Workshop: Feministisches Empowerment 
 durch Skateboarding mit den Synesisters („Skate&Create“)\n13:00
  - 15:00 Uhr Workshop: Songwriting Basics mit MIITCH\, Sängerin
 \, Songwriterin und Vocal Coach\n\n19:00 - 24:00 Uhr FLINTA* on
  stage: sechs FLINTA* - Bands\, eine Bühne OFFEN FÜR ALLE\n\n- 
 ZBNCREW - Politischer Fotzen Rap\n- BARBATRON SOLOBITE - soft-p
 op-acoustic-folk-punk\n- KI'LUANDA - soul\, funk\, gospel\, roc
 k\, fusion\n- LISAE - feministischer Pop\, Indie\, Rap\n- SOFTB
 UTOKAY - Trap\, Indie\, Pop\n- OK NICE TRY - Vokalensemble Pop 
 Jazz\n\nSonntag 26.04.2026\n\n10:00 - 12:00 Uhr Workshop: Weibl
 iche Wut - Wut\, die dich stärkt statt zerstört mit Nadine Müll
 er (Die Nüdel)\, Art Counselor/ Kunst- und Gestaltungstherapie\
 n10:00 - 12:00 Uhr Workshop: Antifeminismus - Die Brücke zwisch
 en gesellschaftlicher Mitte und extremer Rechter mit Anna Richa
 rds\, Gesellschaftspolitische Jugendbildung ejsa.bayern / ejn \
 n\n13:00 - 15:00 Uhr Workshop: Gott ist Feministin - Auseinande
 rsetzen mit dem eigenen Gottesbild mit Mira Ungewitter\, Pastor
 in und Autorin\n13:00 - 15:00 Uhr Workshop: Hand auflegen (Open
  Hands) mit Anne Schlüter und Hanna Nitz\, Pfarrerinnen\n\n18:0
 0 - 20:30 Uhr Lesungs-Gottesdienst: Gott ist Feministin mit Mir
 a Ungewitter\, Pastorin und Autorin und den Sängerinnen Linda u
 nd Lisa OFFEN FÜR ALLE\n\n!!! Jugendschutz: Altersbeschränkunge
 n !!!\n\nPARTY am Freitag\, 24.4.:\n- Ü16 bis 24 Uhr (!)\n- U16
  nur mit Begleitung einer/s Erziehungsberechtigten\nBitte unbed
 ingt Altersnachweis mitbringen!\n\nKONZERT am Samstag\, 25.4.:\
 n- U14: nur in Begleitung einer/s Erwachsenen + Muttizettel ode
 r Erziehungsberechtigten\nBitte unbedingt Altersnachweis mitbri
 ngen!\n\n\nLUX als SAFER SPACE\n\nDas FLINTA* Wochenende ist vo
 n FLINTA* für FLINTA*. Ausgewählte Veranstaltungen sind offen f
 ür alle.\nDu bist willkommen\, wenn du unsere Haltung und Grund
 sätze respektierst. Wir leben die Vielfältigkeit unserer Gesell
 schaft. Hier ist kein Platz für Hass\, Rassismus\, Sexismus und
  Queerfeindlichkeit! Wir tolerieren keine grenzverletzenden Bem
 erkungen und rassistischen Zuschreibungen in Bezug auf\n- Körpe
 r und äußerliche Erscheinung\n- Geschlechtsidentität\, sexuelle
  Orientierung\, geistige und seelische Verfassung\, Alter\, kul
 turelle oder ethnische Zugehörigkeit\, Lebensweise oder Religio
 n
URL;VALUE=URI:https://www.lux-jungekirche.de/veranstaltung/199/flinta-wochenende-24-26-4-2026/
END:VEVENT
END:VCALENDAR
