BEGIN:VCALENDAR
TZID:Europe/Berlin
VERSION:2.0
PRODID:-//LUX – Junge Kirche//NONSGML LUX Events v1.0//EN
CALSCALE:GREGORIAN
BEGIN:VEVENT
DTSTART:20260425T130000
DTEND:20260425T140000
UID:67E6D754-6B68-40C8-93EC-583E7F3B77F2
DTSTAMP:20260305T153912
LOCATION:LUX – Junge Kirche Nürnberg\, Leipziger Str. 25\, 90491 Nürnberg
SUMMARY:LUX: Songwriting Basics – FLINTA* Wochenende
DESCRIPTION:https://www.lux-jungekirche.de/veranstaltung/201/so
 ngwriting-basics/\n\nDiese Veranstaltung ist Teil des FLINTA* W
 ochenendes vom 24.-26. April 2026. Nähere Infos zum restlichen 
 Programm findest du in der Programmübersicht auf unserer Homepa
 ge.\n\nWorkshop Songwriting Basics\n\nIm Workshop erarbeitet ih
 r\, wie ihr ganz ohne ChatGPT eure eigenen Songs schreiben könn
 t\, inklusive aller Tipps und Hacks\, die MIITCH über die Jahre
  gesammelt hat. \n\nMIITCH ist Sängerin\, Songwriterin und Voca
 l Coach. Sie hat Jazz-Gesang und Gesangspädagogik an der Hochsc
 hule für Musik Nürnberg studiert und hat über 10 Jahre Bühnener
 fahrung in der Tasche - zunächst nur als Cover-Sängerin\, doch 
 seit 2020 schreibt und performed sie ihre eigenen Songs auf den
  Bühnen Nürnbergs. Im letzten September erschien ihre Debüt-Sin
 gle „Paradox“ (auf allen Plattformen\, außer Spotify).\n\nVon "
 KNAPP BEI KASSE" bis "FÜR DIE GUTE SACHE": wir wollen\, dass DU
  dabei sein kannst! Entscheide selbst\, was dir Workshops und K
 ulturevents wert sind.\n\nTeilnahme:\nFür die gute Sache: 20 €\
 nEs ist mir was wert: 15 €\nMindestbeitrag: 10 €\nKnapp bei Kas
 se: 5€\n\n13 - 15 Uhr\n\nTeilnehmendenzahl begrenzt.\nKeine Anm
 eldung nötig\, schau einfach vorbei!\n\n\n\n\n\n
URL;VALUE=URI:https://www.lux-jungekirche.de/veranstaltung/201/songwriting-basics/
END:VEVENT
END:VCALENDAR
