BEGIN:VCALENDAR
TZID:Europe/Berlin
VERSION:2.0
PRODID:-//LUX – Junge Kirche//NONSGML LUX Events v1.0//EN
CALSCALE:GREGORIAN
BEGIN:VEVENT
DTSTART:20260425T130000
DTEND:20260425T140000
UID:7FB38BBB-968C-4AEA-9BB7-C557CE9C04C9
DTSTAMP:20260305T155901
LOCATION:LUX – Junge Kirche Nürnberg\, Leipziger Str. 25\, 90491 Nürnberg
SUMMARY:LUX: Skateboarding als Empowerment – FLINTA* Wochenende
 
DESCRIPTION:https://www.lux-jungekirche.de/veranstaltung/202/sk
 ateboarding-als-empowerment/\n\nDiese Veranstaltung ist Teil de
 s FLINTA* Wochenendes vom 24.-26. April 2026. Nähere Infos zum 
 restlichen Programm findest du in der Programmübersicht auf uns
 erer Homepage.\n\nWorkshop Feministisches Empowerment durch Ska
 teboarding\n\nIn diesem Workshop geht es um Selbstvertrauen bei
 m und durch das Skaten. Das Konzept sieht vor\, Basics wie das 
 Pushen und Bremsen zu erlernen und durch erste Tricks innere Hü
 rden zu überwinden.\nDurch gemeinsames Lernen und Gruppenübunge
 n möchten wir ein schwestern*schaftliches Miteinander stärken u
 nd Empowerment durch Bewegung erfahrbar machen.\n\nReferentinne
 n: Synesisters "Skate and create"\n\nVon "KNAPP BEI KASSE" bis 
 "FÜR DIE GUTE SACHE": wir wollen\, dass DU dabei sein kannst! E
 ntscheide selbst\, was dir Workshops und Kulturevents wert sind
 .Teilnahme:\nFür die gute Sache: 20 €\nEs ist mir was wert: 15 
 €\nMindestbeitrag: 10 €\nKnapp bei Kasse: 5€\n\n13 - 15 Uhr\n\n
 Teilnehmendenzahl begrenzt.\nKeine Anmeldung nötig\, schau einf
 ach vorbei!\n\n\n
URL;VALUE=URI:https://www.lux-jungekirche.de/veranstaltung/202/skateboarding-als-empowerment/
END:VEVENT
END:VCALENDAR
