BEGIN:VCALENDAR
TZID:Europe/Berlin
VERSION:2.0
PRODID:-//LUX – Junge Kirche//NONSGML LUX Events v1.0//EN
CALSCALE:GREGORIAN
BEGIN:VEVENT
DTSTART:20260425T100000
DTEND:20260425T110000
UID:28248078-0F11-4252-9E7C-91AC7A462AC0
DTSTAMP:20260305T161232
LOCATION:LUX – Junge Kirche Nürnberg\, Leipziger Str. 25\, 90491 Nürnberg
SUMMARY:LUX: Vinyasa Yoga – FLINTA* Wochenende
DESCRIPTION:https://www.lux-jungekirche.de/veranstaltung/203/vi
 nyasa-yoga/\n\nDiese Veranstaltung ist Teil des FLINTA* Wochene
 ndes vom 24.-26. April 2026. Nähere Infos zum restlichen Progra
 mm findest du in der Programmübersicht auf unserer Homepage.\n\
 n\nWorkshop Vinyasa Yoga mit der Yogalehrerin Lea Schaumburger\
 n\nGehe einen Schritt auf dich zu.\nGanz bewusst und behutsam s
 tärkst du deine Willensstärke und dein Selbstvertrauen sowie de
 ine körperliche Kraft und Ausdauer. \nWir fließe durch einen kr
 aftvollen und energetisierenden\nFlow mit Raum für Entspannung 
 und Erdung.\nDu hast noch keine oder wenige Erfahrungen mit Vin
 yasa Yoga gemacht?\nNur Mut\, in diesem Kurs ist Platz für das 
 Praktizieren deiner ersten Asanas oder zum Erweitern und Vertie
 fen deiner bereits vorhandenen Erfahrungen.\n\nVon "KNAPP BEI K
 ASSE" bis "FÜR DIE GUTE SACHE": wir wollen\, dass DU dabei sein
  kannst! Entscheide selbst\, was dir Workshops und Kulturevents
  wert sind.\n\nTeilnahme:\nFür die gute Sache: 20 €\nEs ist mir
  was wert: 15 €\nMindestbeitrag: 10 €\nKnapp bei Kasse: 5€\n\n1
 0 - 12 Uhr\n\nTeilnehmendenzahl begrenzt.\nKeine Anmeldung nöti
 g\, schau einfach vorbei!
URL;VALUE=URI:https://www.lux-jungekirche.de/veranstaltung/203/vinyasa-yoga/
END:VEVENT
END:VCALENDAR
