BEGIN:VCALENDAR
TZID:Europe/Berlin
VERSION:2.0
PRODID:-//LUX – Junge Kirche//NONSGML LUX Events v1.0//EN
CALSCALE:GREGORIAN
BEGIN:VEVENT
DTSTART:20260426T100000
DTEND:20260426T110000
UID:7DE4724D-85EE-4B90-8B26-708E9241B060
DTSTAMP:20260305T161324
LOCATION:LUX – Junge Kirche Nürnberg\, Leipziger Str. 25\, 90491 Nürnberg
SUMMARY:LUX: Antifeminismus zwischen gesellschaftlicher Mitte u
 nd extremer Rechter – FLINTA* Wochenende
DESCRIPTION:https://www.lux-jungekirche.de/veranstaltung/204/an
 tifeminismus-zwischen-gesellschaftlicher-mitte-und-extremer-rec
 hter/\n\nDiese Veranstaltung ist Teil des FLINTA* Wochenendes v
 om 24.-26. April 2026. Nähere Infos zum restlichen Programm fin
 dest du in der Programmübersicht auf unserer Homepage.\n\nWorks
 hop: Antifeminismus – Die Brücke zwischen gesellschaftlicher Mi
 tte und extremer Rechter\n\nIn sozialen Netzwerken begegnen uns
  täglich Bilder von der „perfekten Hausfrau“\, dem „starken Alp
 ha-Mann“ oder Sorgen um den „Verfall der Familie“. Doch wo ende
 t Lifestyle und wo beginnt rechtsextreme Ideologie? Dieser Work
 shop beleuchtet\, wie Antifeminismus als Brücke dient\, um demo
 kratiefeindliche Inhalte in die Mitte der Gesellschaft zu trage
 n. Gemeinsam analysieren wir fiktive Profile\, entlarven Narrat
 ive und entwickeln Strategien für einen kritischen Umgang im di
 gitalen Alltag.\n\nAnna Richards\, Referentin für Gesellschafts
 politische Jugendbildung ejsa.bayern / ejn\n\nVon "KNAPP BEI KA
 SSE" bis "FÜR DIE GUTE SACHE": wir wollen\, dass DU dabei sein 
 kannst! Entscheide selbst\, was dir Workshops und Kulturevents 
 wert sind.Teilnahme:\nFür die gute Sache: 20 €\nEs ist mir was 
 wert: 15 €\nMindestbeitrag: 10 €\nKnapp bei Kasse: 5€\n\n10 - 1
 2 Uhr\n\nTeilnehmendenzahl begrenzt.\nKeine Anmeldung nötig\, s
 chau einfach vorbei!
URL;VALUE=URI:https://www.lux-jungekirche.de/veranstaltung/204/antifeminismus-zwischen-gesellschaftlicher-mitte-und-extremer-rechter/
END:VEVENT
END:VCALENDAR
