BEGIN:VCALENDAR
TZID:Europe/Berlin
VERSION:2.0
PRODID:-//LUX – Junge Kirche//NONSGML LUX Events v1.0//EN
CALSCALE:GREGORIAN
BEGIN:VEVENT
DTSTART:20260425T100000
DTEND:20260425T110000
UID:6C2AD2ED-E834-4B95-86E5-2831BFA556E8
DTSTAMP:20260305T161455
LOCATION:LUX – Junge Kirche Nürnberg\, Leipziger Str. 25\, 90491 Nürnberg
SUMMARY:LUX: Meine Vulva – Körperwissen und Empowerment – FLINT
 A* Wochenende
DESCRIPTION:https://www.lux-jungekirche.de/veranstaltung/205/me
 ine-vulva-koerperwissen-und-empowerment/\n\nDiese Veranstaltung
  ist Teil des FLINTA* Wochenendes vom 24.-26. April 2026. Näher
 e Infos zum restlichen Programm findest du in der Programmübers
 icht auf unserer Homepage.\n\nWorkshop Meine Vulva – Körperwiss
 en und Empowerment mit Merle Zapfe\, FMGZ\n\nIn diesem Workshop
  lernen wir die Vulva in ihrer Vielfalt besser kennen. Wir spre
 chen über Anatomie\, Gesundheit und gängige Mythen. Gemeinsam s
 etzen wir uns mit Schamgefühlen und eigenen Erfahrungen auseina
 nder. Ziel ist es\, ein positives und selbstbestimmtes Körperge
 fühl zu stärken – im eigenen Tempo und in einem geschützten Rau
 m.\n\nVon "KNAPP BEI KASSE" bis "FÜR DIE GUTE SACHE": wir wolle
 n\, dass DU dabei sein kannst! Entscheide selbst\, was dir Work
 shops und Kulturevents wert sind.\n\nTeilnahme:\nFür die gute S
 ache: 20 €\nEs ist mir was wert: 15 €\nMindestbeitrag: 10 €\nKn
 app bei Kasse: 5€\n\n10 - 12 Uhr\n\nTeilnehmendenzahl begrenzt.
 \nKeine Anmeldung nötig\, schau einfach vorbei!
URL;VALUE=URI:https://www.lux-jungekirche.de/veranstaltung/205/meine-vulva-koerperwissen-und-empowerment/
END:VEVENT
END:VCALENDAR
