BEGIN:VCALENDAR
TZID:Europe/Berlin
VERSION:2.0
PRODID:-//LUX – Junge Kirche//NONSGML LUX Events v1.0//EN
CALSCALE:GREGORIAN
BEGIN:VEVENT
DTSTART:20260426T100000
DTEND:20260426T110000
UID:5C319EEF-2B9E-44FD-B12C-1D5D51D482AD
DTSTAMP:20260305T161844
LOCATION:LUX – Junge Kirche Nürnberg\, Leipziger Str. 25\, 90491 Nürnberg
SUMMARY:LUX: Weibliche Wut – Kunsttherapeutischer Workshop – FL
 INTA* Wochenende
DESCRIPTION:https://www.lux-jungekirche.de/veranstaltung/206/we
 ibliche-wut-kunsttherapeutischer-workshop/\n\nDiese Veranstaltu
 ng ist Teil des FLINTA* Wochenendes vom 24.-26. April 2026. Näh
 ere Infos zum restlichen Programm findest du in der Programmübe
 rsicht auf unserer Homepage.\n\nWorkshop: Weibliche Wut – Kunst
 therapeutischer Workshop für eine Wut\, die dich stärkt statt z
 erstört\n\nEin geschützter Workshop\, in dem du deine Wut als S
 ignal für deine Grenzen und Bedürfnisse achtsam wahrnehmen und 
 kreativ ausdrücken lernst. Mit kunsttherapeutischen und körpero
 rientierten Methoden findest du einen ruhigen\, stärkenden Umga
 ng mit intensiven Gefühlen. Ganz ohne Druck\, ohne Lautstärke\,
  in deinem eigenen Tempo und deiner eigenen Kreativität. Für me
 hr Klarheit\, Selbstkontakt und innere Kraft.\n\nNadine Müller 
 ist ausgebildete Art Counselor (Psychosoziale Beraterin für Kun
 st- und Gestaltungstherapie) und begleite Menschen durch Themen
 \, über die oft geschwiegen wird – Wut\, Scham\, Trauer\, Intim
 ität.\n\nVon "KNAPP BEI KASSE" bis "FÜR DIE GUTE SACHE": wir wo
 llen\, dass DU dabei sein kannst! Entscheide selbst\, was dir W
 orkshops und Kulturevents wert sind.Teilnahme:\nFür die gute Sa
 che: 20 €\nEs ist mir was wert: 15 €\nMindestbeitrag: 10 €\nKna
 pp bei Kasse: 5€\n\n10-12 Uhr\n\nTeilnehmendenzahl begrenzt.\nK
 eine Anmeldung nötig\, schau einfach vorbei!
URL;VALUE=URI:https://www.lux-jungekirche.de/veranstaltung/206/weibliche-wut-kunsttherapeutischer-workshop/
END:VEVENT
END:VCALENDAR
