BEGIN:VCALENDAR
TZID:Europe/Berlin
VERSION:2.0
PRODID:-//LUX – Junge Kirche//NONSGML LUX Events v1.0//EN
CALSCALE:GREGORIAN
BEGIN:VEVENT
DTSTART:20260424T180000
DTEND:20260424T190000
UID:2FCEBF14-295B-43F4-B6C4-CC1B5C41C2A1
DTSTAMP:20260305T161906
LOCATION:LUX – Junge Kirche Nürnberg\, Leipziger Str. 25\, 90491 Nürnberg
SUMMARY:LUX: Tattoos von kikis titti tats – FLINTA* Wochenende
 
DESCRIPTION:https://www.lux-jungekirche.de/veranstaltung/207/ta
 ttoos-von-kikis-titti-tats/\n\nDiese Veranstaltung ist Teil des
  FLINTA* Wochenendes vom 24.-26. April 2026. Nähere Infos zum r
 estlichen Programm findest du in der Programmübersicht auf unse
 rer Homepage.\n\nTattoos von kikis titti tats\n\nIm Studio Lila
  in der Nürnberger Südstadt tätowiert Kiki flash\, flow oder cu
 stom Tattoos. Am FLINTA* Wochenende gibt es passende flashes\, 
 die sie für uns designt. Such dir spontan was aus und nimm dein
  feministisches Souvenir mit nach Hause.\n\nKosten je nach Moti
 v. first come\, first served\n\n18 - 21:30 Uhr\n
URL;VALUE=URI:https://www.lux-jungekirche.de/veranstaltung/207/tattoos-von-kikis-titti-tats/
END:VEVENT
END:VCALENDAR
