BEGIN:VCALENDAR
TZID:Europe/Berlin
VERSION:2.0
PRODID:-//LUX – Junge Kirche//NONSGML LUX Events v1.0//EN
CALSCALE:GREGORIAN
BEGIN:VEVENT
DTSTART:20260426T130000
DTEND:20260426T140000
UID:26E020F5-6334-4369-A98D-44BDA0C292E7
DTSTAMP:20260305T162212
LOCATION:LUX – Junge Kirche Nürnberg\, Leipziger Str. 25\, 90491 Nürnberg
SUMMARY:LUX: Gott ist Feministin | Auseinandersetzen mit dem ei
 genen Gottesbild – FLINTA* Wochenende
DESCRIPTION:https://www.lux-jungekirche.de/veranstaltung/208/go
 tt-ist-feministin-auseinandersetzen-mit-dem-eigenen-gottesbild/
 \n\nDiese Veranstaltung ist Teil des FLINTA* Wochenendes vom 24
 .-26. April 2026. Nähere Infos zum restlichen Programm findest 
 du in der Programmübersicht auf unserer Homepage.\n\nWorkshop G
 ott ist Feministin - Auseinandersetzen mit dem eigenen Gottesbi
 ld\n\nPassend zum Lesungs-Gottesdienst am Abend geht’s in diese
 m Workshop um die eigene Gottesvorstellung. Angelehnt an Texte 
 aus ihrem Buch „Gott ist Feministin“ bringt Mira Ungewitter Imp
 ulse ein und öffnet so einen safer space\, um sich (ganz neu) m
 it dem eigenen Glauben auseinander zu setzen. \n\nVon "KNAPP BE
 I KASSE" bis "FÜR DIE GUTE SACHE": wir wollen\, dass DU dabei s
 ein kannst! Entscheide selbst\, was dir Workshops und Kultureve
 nts wert sind.Teilnahme:\nFür die gute Sache: 20 €\nEs ist mir 
 was wert: 15 €\nMindestbeitrag: 10 €\nKnapp bei Kasse: 5€\n\n13
  - 15 Uhr\n\nTeilnehmendenzahl begrenzt.\nKeine Anmeldung nötig
 \, schau einfach vorbei!
URL;VALUE=URI:https://www.lux-jungekirche.de/veranstaltung/208/gott-ist-feministin-auseinandersetzen-mit-dem-eigenen-gottesbild/
END:VEVENT
END:VCALENDAR
