BEGIN:VCALENDAR
TZID:Europe/Berlin
VERSION:2.0
PRODID:-//LUX – Junge Kirche//NONSGML LUX Events v1.0//EN
CALSCALE:GREGORIAN
BEGIN:VEVENT
DTSTART:20260424T190000
DTEND:20260424T200000
UID:6F564878-577D-40DE-A8E6-6136A4939BC3
DTSTAMP:20260305T162235
LOCATION:LUX – Junge Kirche Nürnberg\, Leipziger Str. 25\, 90491 Nürnberg
SUMMARY:LUX: Open Stage von und für FLINTA* – FLINTA* Wochenend
 e
DESCRIPTION:https://www.lux-jungekirche.de/veranstaltung/209/op
 en-stage-von-und-fuer-flinta/\n\nDiese Veranstaltung ist Teil d
 es FLINTA* Wochenendes vom 24.-26. April 2026. Nähere Infos zum
  restlichen Programm findest du in der Programmübersicht auf un
 serer Homepage.\n\nDu bist FLINTA*? Mach mit bei der Open Stage
 !\nEgal welche Kunstform: Zeig was du kannst! Trau dich allein 
 oder als Gruppe auf unserer Bühne. Gern mit Voranmeldung – spon
 tan geht aber auch!\n\n19 - 21.30 Uhr\n\n
URL;VALUE=URI:https://www.lux-jungekirche.de/veranstaltung/209/open-stage-von-und-fuer-flinta/
END:VEVENT
END:VCALENDAR
