BEGIN:VCALENDAR
TZID:Europe/Berlin
VERSION:2.0
PRODID:-//LUX – Junge Kirche//NONSGML LUX Events v1.0//EN
CALSCALE:GREGORIAN
BEGIN:VEVENT
DTSTART:20260426T130000
DTEND:20260426T140000
UID:2390C181-B2DE-4BD0-9DF8-84E2F7754058
DTSTAMP:20260305T162423
LOCATION:LUX – Junge Kirche Nürnberg\, Leipziger Str. 25\, 90491 Nürnberg
SUMMARY:LUX: Hand auflegen - Open Hands – FLINTA* Wochenende
DESCRIPTION:https://www.lux-jungekirche.de/veranstaltung/210/ha
 nd-auflegen-open-hands/\n\nDiese Veranstaltung ist Teil des FLI
 NTA* Wochenendes vom 24.-26. April 2026. Nähere Infos zum restl
 ichen Programm findest du in der Programmübersicht auf unserer 
 Homepage.\n\nWorkshop Hand auflegen - Open Hands mit Anne Schlü
 ter und Hanna Nitz\, Pfarrerinnen\n\nBerührung kann trösten\, s
 tärken und heilend wirken. Handauflegen ist eine alte spirituel
 le Praxis und auch in der christlichen Tradition fest verankert
 : Als Zeichen von Segen\, Zuwendung und Vertrauen auf Gottes he
 ilsame Kraft. In diesem Workshop laden wir Dich ein\, das Handa
 uflegen in einem geschützten und achtsamen Rahmen kennenzulerne
 n und auszuprobieren. Nach einer kurzen theoretischen Einführun
 g legen wir uns selbst und mit gegenseitigem Einverständnis auc
 h einander die Hände auf. Du brauchst keine Vorkenntnisse\, um 
 teilzunehmen. \n\n\nTeilnehmendenzahl begrenzt.\nKeine Anmeldun
 g nötig\, schau einfach vorbei!\n\n13 - 15 Uhr
URL;VALUE=URI:https://www.lux-jungekirche.de/veranstaltung/210/hand-auflegen-open-hands/
END:VEVENT
END:VCALENDAR
