BEGIN:VCALENDAR
TZID:Europe/Berlin
VERSION:2.0
PRODID:-//LUX – Junge Kirche//NONSGML LUX Events v1.0//EN
CALSCALE:GREGORIAN
BEGIN:VEVENT
DTSTART:20260424T220000
DTEND:20260424T230000
UID:E08995A2-A8BE-4D02-A251-8D1B4890B18B
DTSTAMP:20260305T162908
LOCATION:LUX – Junge Kirche Nürnberg\, Leipziger Str. 25\, 90491 Nürnberg
SUMMARY:LUX: Party "Auf uns!" – FLINTA* Wochenende
DESCRIPTION:https://www.lux-jungekirche.de/veranstaltung/211/pa
 rty-auf-uns/\n\nDiese Veranstaltung ist Teil des FLINTA* Wochen
 endes vom 24.-26. April 2026. Nähere Infos zum restlichen Progr
 amm findest du in der Programmübersicht auf unserer Homepage.\n
 \nParty "Auf uns!"\n\nMit Anya & Poffi vom  FLINTA*-DJ-Kollekti
 v Fierce-Flow\n\nAnya und Poffi bieten ein breites Spektrum an 
 Musik\, welches garantiert zum Tanzen anregt. \nSie repräsentie
 ren das Fierce Flow Collective\, ein FLINTA*-DJ-Kollektiv aus N
 ürnberg\, das gegründet wurde\, um Sichtbarkeit und Safe Spaces
  in der Kulturszene zu schaffen. Mit regelmäßigen Open Decks bi
 etet das Kollektiv unter anderem FLINTA*-Artists eine Bühne zum
  Ausprobieren und Vernetzen. \n\nAnya: \nAnya legt seit Septemb
 er 2024 auf und hat seit dem jede Chance genutzt an den Decks z
 u stehen. Sie folgt keinen Trends\, sondern sucht den richtigen
  Vibe.\nZwischen up-beat und funky Tracks\, die zum Tanzen anre
 gen und herrlich düsteren Sounds kann in einem Set alles passie
 ren.\n \nPoffi:\nPoffi legt sich nicht auf ein Genre fest – sie
  liebt es\, neue Musik zu entdecken und daraus das perfekte Set
  zu basteln. Ihre Sets reichen von Dance-Pop über Melodic Techn
 o bis hin zu Psytrance. Ihr Ziel: euch die ganze Nacht durchtan
 zen zu lassen und mit einem richtig guten Gefühl nach Hause zu 
 schicken.\n\nEinlass: 21:30 Uhr\nBeginn: 22 Uhr\nEnde: 1 Uhr\n\
 n!!! Jugendschutz: Altersbeschränkungen !!!\n\n- Ü16 bis 24 Uhr
  (!)\n- U16 nur mit Begleitung einer/s Erziehungsberechtigten\n
 Bitte unbedingt Altersnachweis mitbringen!\n\nVon "KNAPP BEI KA
 SSE" bis "FÜR DIE GUTE SACHE": wir wollen\, dass DU dabei sein 
 kannst! Entscheide selbst\, was dir die Kulturevents wert sind.
 \n\nTickets für die Party:\n\nFür die gute Sache: 20 €	\nEs ist
  mir was wert: 15 €\nMindestbeitrag: 10 €	\nKnapp bei Kasse: 5€
 \n\n >> für euch OHNE Systemgebühr!\n
URL;VALUE=URI:https://www.lux-jungekirche.de/veranstaltung/211/party-auf-uns/
END:VEVENT
END:VCALENDAR
