BEGIN:VCALENDAR
TZID:Europe/Berlin
VERSION:2.0
PRODID:-//LUX – Junge Kirche//NONSGML LUX Events v1.0//EN
CALSCALE:GREGORIAN
BEGIN:VEVENT
DTSTART:20260425T190000
DTEND:20260425T200000
UID:6E419E33-2582-4396-9717-27445EF068D9
DTSTAMP:20260305T163944
LOCATION:LUX – Junge Kirche Nürnberg\, Leipziger Str. 25\, 90491 Nürnberg
SUMMARY:LUX: ZBNCREW | FLINTA* on stage – FLINTA* Wochenende
DESCRIPTION:https://www.lux-jungekirche.de/veranstaltung/212/zb
 ncrew-flinta-on-stage/\n\nDiese Veranstaltung ist Teil des FLIN
 TA* Wochenendes vom 24.-26. April 2026. Nähere Infos zum restli
 chen Programm findest du in der Programmübersicht auf unserer H
 omepage.\n\n!!! Jugendschutz: Altersbeschränkungen !!!\n- U14: 
 nur in Begleitung einer/s Erwachsenen + Muttizettel oder Erzieh
 ungsberechtigten\nBitte unbedingt Altersnachweis mitbringen!\n\
 nFLINTA* on stage - Sechs FLINTA*-Bands – eine Bühne: \nDIESES 
 EVENT IST BEWUSST OFFEN FÜR ALLE\, DIE SICH SOLIDARISCH ZEIGEN 
 WOLLEN\n\nZBNCREW - Politischer Fotzen Rap\nBARBATRON SOLOBITES
  - soft-pop-acoustic-folk-punk\nKI'LUANDA - soul\, funk\, gospe
 l\, rock\, fusion\nLISAE - feministischer Pop\, Indie\, Rap\nSO
 FTBUTOKAY - Trap\, Indie\, Pop\nOK NICE TRY - Vokalensemble Pop
  Jazz\n\n\nZBNCREW on stage \n\nWir sind eine dreiköpfige Flint
 a-Bande aus dem Herzen Nürnbergs. Unser Songkatalog ist voller 
 Tracks zum Viben & Entspannen\, aber auch der ein oder andere B
 anger gehört dazu! \nDer rote Faden unserer Mukke besteht aus S
 paß & Liebe\, aber auch daraus\, sich selbst und Themen dieser 
 Welt zu reflektieren und zu hinterfragen. Dazu zählen für uns u
 ngehemmte Gesellschaftskritik\, Feminismus und psychische Gesun
 dheit.\nWir haben mega Bock auf das\, was wir da machen\, und h
 offen\, ihr auch ! <3 \nLiebe geht raus \nBGF | IBE | CYI“ \n\n
 Einlass: 18:30 Uhr\nBeginn: 19 Uhr\nEnde: 24 Uhr\n\nVon "KNAPP 
 BEI KASSE" bis "FÜR DIE GUTE SACHE": wir wollen\, dass DU dabei
  sein kannst! Entscheide selbst\, was dir die Kulturevents wert
  sind.\n\nTickets:\nFür die gute Sache: 30 €	\nEs ist mir was w
 ert: 25 €\nMindestbeitrag: 20 €	\nKnapp bei Kasse: 15€\n\n
 
URL;VALUE=URI:https://www.lux-jungekirche.de/veranstaltung/212/zbncrew-flinta-on-stage/
END:VEVENT
END:VCALENDAR
