BEGIN:VCALENDAR
TZID:Europe/Berlin
VERSION:2.0
PRODID:-//LUX – Junge Kirche//NONSGML LUX Events v1.0//EN
CALSCALE:GREGORIAN
BEGIN:VEVENT
DTSTART:20260425T190000
DTEND:20260425T200000
UID:16852350-539E-4E61-B3E6-AC828F406814
DTSTAMP:20260305T164437
LOCATION:LUX – Junge Kirche Nürnberg\, Leipziger Str. 25\, 90491 Nürnberg
SUMMARY:LUX: Barbatron Solobite | FLINTA* on stage – FLINTA* Wo
 chenende
DESCRIPTION:https://www.lux-jungekirche.de/veranstaltung/213/ba
 rbatron-solobite-flinta-on-stage/\n\nDiese Veranstaltung ist Te
 il des FLINTA* Wochenendes vom 24.-26. April 2026. Nähere Infos
  zum restlichen Programm findest du in der Programmübersicht au
 f unserer Homepage.\n\n!!! Jugendschutz: Altersbeschränkungen !
 !!\n- U14: nur in Begleitung einer/s Erwachsenen + Muttizettel 
 oder Erziehungsberechtigten\nBitte unbedingt Altersnachweis mit
 bringen!\n\nFLINTA* on stage - Sechs FLINTA*-Bands – eine Bühne
 :\nDIESES EVENT IST BEWUSST OFFEN FÜR ALLE\, DIE SICH SOLIDARIS
 CH ZEIGEN WOLLEN\n\nZBNCREW - Tracks zum Viben & Entspannen\nBA
 RBATRON SOLOBITES - soft-pop-acoustic-folk-punk\nKI'LUANDA - so
 ul\, funk\, gospel\, rock\, fusion\nLISAE - feministischer Pop\
 , Indie\, Rap\nSOFTBUTOKAY - Trap\, Indie\, Pop\nOK NICE TRY - 
 Vokalensemble Pop Jazz\n\n\nBarbatron Solobite on stage \n\nLie
 be\, Schmerz\, Punkrock\, alles mit einem Lächeln.  \nMit Wurze
 ln tief im Punkrock verbunden\, schlägt Barbatron Solobite in i
 hrem Singer-Songwriter-Projekt ruhigere und nachdenklichere Tön
 e an. Ihre Songs handeln oft von Liebe\, Herzschmerz und den Hö
 hen und Tiefen des Lebens – doch anstatt in düstere Melancholie
  zu verfallen\, durchzieht ihre Musik stets ein Funken von Humo
 r. Wer ihren Singer-Songwriter-Charme mit einem Hauch von Punk-
 Attitüde erleben will\, sollte Barbatron Solobite nicht verpass
 en.\n\nEinlass: 18:30 Uhr\nBeginn: 19 Uhr\nEnde: 24 Uhr\n\nVon 
 "KNAPP BEI KASSE" bis "FÜR DIE GUTE SACHE": wir wollen\, dass D
 U dabei sein kannst! Entscheide selbst\, was dir die Kultureven
 ts wert sind.\n\nTickets:\nFür die gute Sache: 30 €	\nEs ist mi
 r was wert: 25 €\nMindestbeitrag: 20 €	\nKnapp bei Kasse: 15€
 
URL;VALUE=URI:https://www.lux-jungekirche.de/veranstaltung/213/barbatron-solobite-flinta-on-stage/
END:VEVENT
END:VCALENDAR
