BEGIN:VCALENDAR
TZID:Europe/Berlin
VERSION:2.0
PRODID:-//LUX – Junge Kirche//NONSGML LUX Events v1.0//EN
CALSCALE:GREGORIAN
BEGIN:VEVENT
DTSTART:20260425T190000
DTEND:20260425T200000
UID:82B141C4-A8A9-402B-901A-9E7E8A9C1014
DTSTAMP:20260305T164938
LOCATION:LUX – Junge Kirche Nürnberg\, Leipziger Str. 25\, 90491 Nürnberg
SUMMARY:LUX: KI'LUANDA | FLINTA* on stage –  FLINTA* Wochenende
 
DESCRIPTION:https://www.lux-jungekirche.de/veranstaltung/214/ki
 luanda-flinta-on-stage/\n\nDiese Veranstaltung ist Teil des FLI
 NTA* Wochenendes vom 24.-26. April 2026. Nähere Infos zum restl
 ichen Programm findest du in der Programmübersicht auf unserer 
 Homepage.\n\n!!! Jugendschutz: Altersbeschränkungen !!!\n- U14:
  nur in Begleitung einer/s Erwachsenen + Muttizettel oder Erzie
 hungsberechtigten\nBitte unbedingt Altersnachweis mitbringen!\n
 \nFLINTA* on stage - Sechs FLINTA*-Bands – eine Bühne:\nDIESES 
 EVENT IST BEWUSST OFFEN FÜR ALLE\, DIE SICH SOLIDARISCH ZEIGEN 
 WOLLEN\n\nZBNCREW - Tracks zum Viben & Entspannen\nBARBATRON SO
 LOBITES - soft-pop-acoustic-folk-punk\nKI'LUANDA - soul\, funk\
 , gospel\, rock\, fusion\nLISAE - feministischer Pop\, Indie\, 
 Rap\nSOFTBUTOKAY - Trap\, Indie\, Pop\nOK NICE TRY - Vokalensem
 ble Pop Jazz\n\nKI`LUANDA on stage \n\nSoul trifft Funk und Jaz
 z\nMusikalische Vielfalt\, eine unvergleichliche Ausstrahlung u
 nd ihre unglaubliche Energie machen Ki’Luanda zu einer der inte
 ressantesten Künstlerinnen Nürnbergs. Frisch aus dem Gostenhofe
 r Großstadtdschungel erheben sich rhythmische Beats\, die Herze
 n höher schlagen lassen. Jede Menge Soul trifft auf Funk und Ja
 zz und eine Brise R’n’B. \n\nEinlass: 18:30 Uhr\nBeginn: 19 Uhr
 \nEnde: 24 Uhr\n\nVon "KNAPP BEI KASSE" bis "FÜR DIE GUTE SACHE
 ": wir wollen\, dass DU dabei sein kannst! Entscheide selbst\, 
 was dir die Kulturevents wert sind.\n\nTickets:\n\nFür die gute
  Sache: 30 €	\nEs ist mir was wert: 25 €\nMindestbeitrag: 20 €	
 \nKnapp bei Kasse: 15€\n\nFoto: Julian Prietz\n\n\n\n
URL;VALUE=URI:https://www.lux-jungekirche.de/veranstaltung/214/kiluanda-flinta-on-stage/
END:VEVENT
END:VCALENDAR
