BEGIN:VCALENDAR
TZID:Europe/Berlin
VERSION:2.0
PRODID:-//LUX – Junge Kirche//NONSGML LUX Events v1.0//EN
CALSCALE:GREGORIAN
BEGIN:VEVENT
DTSTART:20260425T190000
DTEND:20260425T200000
UID:0C8A01E6-A3C3-4EC6-80B9-540E76B38325
DTSTAMP:20260305T165256
LOCATION:LUX – Junge Kirche Nürnberg\, Leipziger Str. 25\, 90491 Nürnberg
SUMMARY:LUX: LISAE | FLINTA* on stage – FLINTA* Wochenende
DESCRIPTION:https://www.lux-jungekirche.de/veranstaltung/215/li
 sae-flinta-on-stage/\n\nDiese Veranstaltung ist Teil des FLINTA
 * Wochenendes vom 24.-26. April 2026. Nähere Infos zum restlich
 en Programm findest du in der Programmübersicht auf unserer Hom
 epage.\n\n!!! Jugendschutz: Altersbeschränkungen !!!\n- U14: nu
 r in Begleitung einer/s Erwachsenen + Muttizettel oder Erziehun
 gsberechtigten\nBitte unbedingt Altersnachweis mitbringen!\n\nF
 LINTA* on stage - Sechs FLINTA*-Bands – eine Bühne:\nDIESES EVE
 NT IST BEWUSST OFFEN FÜR ALLE\, DIE SICH SOLIDARISCH ZEIGEN WOL
 LEN\n\nZBNCREW - Tracks zum Viben & Entspannen\nBARBATRON SOLOB
 ITES - soft-pop-acoustic-folk-punk\nKI'LUANDA - soul\, funk\, g
 ospel\, rock\, fusion\nLISAE - feministischer Pop\, Indie\, Rap
 \nSOFTBUTOKAY - Trap\, Indie\, Pop\nOK NICE TRY - Vokalensemble
  Pop Jazz\n\nLISÆ on stage \n\nLISÆ ist der Sound von Wut und Z
 ärtlichkeit\, von Power und Widerstand. \nIhre Musik ist eine K
 ampfansage ans Patriarchat und eine Liebeserklärung an kollekti
 ve Heilung. \nSeit 2024 steht die queerfeministische Band LISÆ 
 auf Bühnen – mit Pop\, Rap\, Indie und Rock. Ihre Musik ist gef
 ühlvoll und empowernd und richtet sich an alle\, die genug von 
 gesellschaftlichen Ungerechtigkeiten haben.\n\nEinlass: 18:30 U
 hr\nBeginn: 19 Uhr\nEnde: 24 Uhr\n\nVon "KNAPP BEI KASSE" bis "
 FÜR DIE GUTE SACHE": wir wollen\, dass DU dabei sein kannst! En
 tscheide selbst\, was dir die Kulturevents wert sind.\n\nTicket
 s:\n\nFür die gute Sache: 30 €	\nEs ist mir was wert: 25 €\nMin
 destbeitrag: 20 €	\nKnapp bei Kasse: 15€\n\n
URL;VALUE=URI:https://www.lux-jungekirche.de/veranstaltung/215/lisae-flinta-on-stage/
END:VEVENT
END:VCALENDAR
