BEGIN:VCALENDAR
TZID:Europe/Berlin
VERSION:2.0
PRODID:-//LUX – Junge Kirche//NONSGML LUX Events v1.0//EN
CALSCALE:GREGORIAN
BEGIN:VEVENT
DTSTART:20260425T190000
DTEND:20260425T200000
UID:0CF7026F-1361-43A4-8FF5-9A72627EE914
DTSTAMP:20260306T111127
LOCATION:LUX – Junge Kirche Nürnberg\, Leipziger Str. 25\, 90491 Nürnberg
SUMMARY:LUX: softbutokay | FLINTA* on stage – FLINTA* Wochenend
 e
DESCRIPTION:https://www.lux-jungekirche.de/veranstaltung/216/so
 ftbutokay-flinta-on-stage/\n\nDiese Veranstaltung ist Teil des 
 FLINTA* Wochenendes vom 24.-26. April 2026. Nähere Infos zum re
 stlichen Programm findest du in der Programmübersicht auf unser
 er Homepage.\n\n!!! Jugendschutz: Altersbeschränkungen !!!\n- U
 14: nur in Begleitung einer/s Erwachsenen + Muttizettel oder Er
 ziehungsberechtigten\nBitte unbedingt Altersnachweis mitbringen
 !\n\nFLINTA* on stage - Sechs FLINTA*-Bands – eine Bühne: \nDIE
 SES EVENT IST BEWUSST OFFEN FÜR ALLE\, DIE SICH SOLIDARISCH ZEI
 GEN WOLLEN\n\nZBNCREW - Tracks zum Viben & Entspannen\nBARBATRO
 N SOLOBITES - soft-pop-acoustic-folk-punk\nKI'LUANDA - soul\, f
 unk\, gospel\, rock\, fusion\nLISAE - feministischer Pop\, Indi
 e\, Rap\nSOFTBUTOKAY - Trap\, Indie\, Pop\nOK NICE TRY - Vokale
 nsemble Pop Jazz\n\n\nsoftbutokay on stage \n\nDie Newcomer-Ban
 d aus Würzburg vereint Elemente aus Trap\, Indie und Pop. Synth
 etische Flächen und treibende Drums bilden das Fundament für Te
 xte\, die mal humorvoll-direkt\, mal melancholisch-verspielt da
 herkommen. Entstanden aus einer engen Freundschaft im Studium\,
  verfolgen die vier Musiker*innen den Anspruch einen ehrlichen 
 Sound zu schaffen\, der sich zwischen Energie und Intimität bew
 egt. Tara (Gesang)\, Aaron (Drums)\, Aike (Saxophon\, Keys\, Gi
 tarre) und Josi (Producing\, Synthbass) sind softbutokay.\nZum 
 FLINTA* Wochenende tritt die Band in FLINTA* Besetzung auf.\n\n
 \nEinlass: 18:30 Uhr\nBeginn: 19 Uhr\nEnde: 24 Uhr\n\nVon "KNAP
 P BEI KASSE" bis "FÜR DIE GUTE SACHE": wir wollen\, dass DU dab
 ei sein kannst! Entscheide selbst\, was dir die Kulturevents we
 rt sind.\n\nTickets:\nFür die gute Sache: 30 €	\nEs ist mir was
  wert: 25 €\nMindestbeitrag: 20 €	\nKnapp bei Kasse: 15€
URL;VALUE=URI:https://www.lux-jungekirche.de/veranstaltung/216/softbutokay-flinta-on-stage/
END:VEVENT
END:VCALENDAR
