BEGIN:VCALENDAR
TZID:Europe/Berlin
VERSION:2.0
PRODID:-//LUX – Junge Kirche//NONSGML LUX Events v1.0//EN
CALSCALE:GREGORIAN
BEGIN:VEVENT
DTSTART:20260426T180000
DTEND:20260426T190000
UID:5201E29F-E27A-4CD6-8FC8-3EEA9CC6D1F8
DTSTAMP:20260306T112123
LOCATION:LUX – Junge Kirche Nürnberg\, Leipziger Str. 25\, 90491 Nürnberg
SUMMARY:LUX: Lesungs - Gottesdienst | Gott ist Feministin – FLI
 NTA* Wochenende
DESCRIPTION:https://www.lux-jungekirche.de/veranstaltung/218/le
 sungs-gottesdienst-gott-ist-feministin/\n\nDiese Veranstaltung 
 ist Teil des FLINTA* Wochenendes vom 24.-26. April 2026. Nähere
  Infos zum restlichen Programm findest du in der Programmübersi
 cht auf unserer Homepage.\n\nLesungs - Gottesdienst | Gott ist 
 Feministin:\nDIESES EVENT IST BEWUSST OFFEN FÜR ALLE\, DIE SICH
  SOLIDARISCH ZEIGEN WOLLEN\n\nSex\, Lust und selbstbewusste Fra
 uen – dafür ist in der Bibel und in der Kirche kein Platz! Oder
  doch? Ein Abend der Schluss mit alten Klischees macht und zu e
 inem selbstbestimmten\, unverschämten Leben in Freiheit inspiri
 ert. \nDie Sängerinnen Linda (@ichbinlinda_musik) und Lisa (@li
 sa.liebt.das.leben) begleiten den Abend mit passenden Liedern. 
 Dazwischen gibt es Gebet und Segen.\n\nIm Anschluss offener Aus
 klang an der Bar mit Büchertisch und Zeit zum Austausch.\n\nEin
 tritt: frei\nWir freuen uns über deine Spende\n
URL;VALUE=URI:https://www.lux-jungekirche.de/veranstaltung/218/lesungs-gottesdienst-gott-ist-feministin/
END:VEVENT
END:VCALENDAR
