BEGIN:VCALENDAR
TZID:Europe/Berlin
VERSION:2.0
PRODID:-//LUX – Junge Kirche//NONSGML LUX Events v1.0//EN
CALSCALE:GREGORIAN
BEGIN:VEVENT
DTSTART:20260510T180000
DTEND:20260510T190000
UID:DDAC5B9F-52F4-4FE1-8302-B33B0CC074FB
DTSTAMP:20260422T140218
LOCATION:LUX – Junge Kirche Nürnberg\, Leipziger Str. 25\, 90491 Nürnberg
SUMMARY:LUX: Herzensmenschen und Best Bros – Was wirklich zählt
 
DESCRIPTION:https://www.lux-jungekirche.de/veranstaltung/220/he
 rzensmenschen-und-best-bros/\n\nMit wem gehst du durch dick und
  dünn? Wen rufst du an\, wenn es brennzlig wirst? Wer freut sic
 h mit dir\, wenn das Leben sagenhaft gut läuft?\nOhne unsere He
 rzensmenschen wäre das Leben nicht mal halb so schön.\nZusammen
  mit der Katholischen Jugend feiern wir einen besonderen Jugend
 gottesdienst – mit allem\, was dazugehört: gute Musik\, ehrlich
 e Gedanken und eine starke Gemeinschaft.\nMit dabei: unsere The
 atergruppe\, die den Abend auf ihre ganz eigene Weise lebendig 
 macht.\nKomm vorbei\, bring deine Freunde mit und erlebe einen 
 Abend\, der hängen bleibt.\n
URL;VALUE=URI:https://www.lux-jungekirche.de/veranstaltung/220/herzensmenschen-und-best-bros/
END:VEVENT
END:VCALENDAR
