BEGIN:VCALENDAR
TZID:Europe/Berlin
VERSION:2.0
PRODID:-//LUX – Junge Kirche//NONSGML LUX Events v1.0//EN
CALSCALE:GREGORIAN
BEGIN:VEVENT
DTSTART:20260719T180000
DTEND:20260719T190000
UID:E26181BA-DC27-4B36-B336-C106860C1DDA
DTSTAMP:20260422T140423
LOCATION:LUX – Junge Kirche Nürnberg\, Leipziger Str. 25\, 90491 Nürnberg
SUMMARY:LUX: School's out – mit Pommes-Party
DESCRIPTION:https://www.lux-jungekirche.de/veranstaltung/221/sc
 hools-out/\n\nEndlich frei\, endlich Sommer\, endlich durchatme
 n! \nBevor du in die Ferien startest\, feiern wir gemeinsam das
 \, was hinter uns liegt – und freuen uns auf alles\, was kommt.
 \nKomm zu unserem Jugendgottesdienst „School’s out“ – mit guter
  Musik\, ehrlichen Gedanken und einer richtig guten Zeit.\nUnd 
 danach?\nAll you can eat Pommes Party! \nBring deine Freunde mi
 t und starte mit uns in den Sommer!\n
URL;VALUE=URI:https://www.lux-jungekirche.de/veranstaltung/221/schools-out/
END:VEVENT
END:VCALENDAR
