BEGIN:VCALENDAR
TZID:Europe/Berlin
VERSION:2.0
PRODID:-//LUX – Junge Kirche//NONSGML LUX Events v1.0//EN
CALSCALE:GREGORIAN
BEGIN:VEVENT
DTSTART:20231226T190000
DTEND:20231226T200000
UID:46EFA89A-8A3C-4944-B1EA-951F0904E4E2
DTSTAMP:20230528T143424
LOCATION:LUX – Junge Kirche Nürnberg\, Leipziger Str. 25\, 90491 Nürnberg
SUMMARY:LUX: Gospel People – European Tour 2023/2024
DESCRIPTION:https://www.lux-jungekirche.de/veranstaltung/38/gos
 pel-people/\n\n!!! Der Vorverkauf ist hier bereits beendet\, ab
 er: Es wird eine Abendkasse geben und noch genug Plätze - schau
 en Sie auf jeden Fall vorbei!!!\n\nThe Gospel People (USA) auf 
 „European Tour 2023/2024“\nEin Zeichen des Friedens und der Fre
 ude für unsere Welt!\n\n\,\,Havin´ a good time“ heißt es wieder
  von Mitte Dezember 2023 bis Mitte Januar 2024\, wenn 'The Gosp
 el People' in Deutschland\, den Beneluxländer und der Schweiz u
 nterwegs sind\, um das Publikum auf eine musikalischen Reise in
 s Herz der USA\, ihrer ‚Black Churches‘  und deren freudigem Er
 weckungserlebnis mitzunehmen. Das rund zweistündige Programm er
 streckt sich von Liedern aus dem traditionellen \,\,Black Gospe
 l“ \nüber den von Jazz und Soul inspirierten Gospel bis hin zum
  aktuellen \,\,Contemporary\nGospel“ mit seinen Rock- Pop- und 
 Rap-Elementen. Ein Abend mit einer packenden\nBühnen-Performanc
 e\, der Gänsehaut-Feeling verspricht.\n\nDie Gospeltruppe um de
 n künstlerischen Leiter\, Frontman und Arrangeur Owen Nixon fäl
 lt es nicht schwer\, ihr Publikum zu begeistern. In immer wiede
 r anderen Konstellationen – von Ensembleszenen bis zu eindrucks
 vollen Soloauftritten – und gepaart mit einer Bühnenshow aus fa
 st schon extatischen Tanzeinlagen bringen sie jede Location zum
  Kochen. Irgendwann hält es die Konzertbesucher nicht mehr auf 
 den Bänken\, und viele singen die Stücke begeistert mit. Man ni
 mmt den Künstlerinnen und Künstlern einfach die Leidenschaft ab
 \, mit der sie Botschaften vermitteln. Und Owen Nixon könnte ma
 n auch Prediger bezeichnen. Denn Gospel ist für ihn nicht einfa
 ch nur Musik\, sondern ‘The Good News‘\, die Gute Nachricht wei
 terzugeben.\n\nNeu dabei in der Gruppe ist Jessica Fox (Alt + S
 opran) mit einer unglaublichen Stimme. Hier dürfen sich die Bes
 ucher auf auf ein großartiges Talent freuen. Schon seit vergang
 enem Jahr an Bord sind die Sopranistin Toneisha Jones Harris\, 
 einer Finalistin beim Wettbewerb „The Voice“\, und Madyson „Sym
 phony“ McSwain (Alt). Zusammen konnten sie vor allem mit dem Kl
 assiker „Stand by me“ überzeugen. Eigene Titel und viele bekann
 te Melodien reihen sich nahtlos aneinander bis zu einem furiose
 n Finale. „The Anthem“ und „Revelation“ gehen in ein fulminante
  „Hallelujah“ über\, bis „Oh happy Day“ und „We are the World” 
 für rhythmisches Klatschen und stürmischen Beifall sorgen werde
 n. Kirchenmusik muss eben nicht getragen klingen. Rockiger Beat
  und Soul- und Bluesgesang machen eine Show daraus. Dieser Spir
 it und die frohe Botschaft des Gospels geben Mut in schwierigen
  Zeiten von Krieg und Zukunftsangst.\n\nHintergrund\nDas Wort „
 Gospel“ ist ursprünglich der altenglische Begriff für das Evang
 elium\, das aus den beiden Worten „good spell“\, also „gute Nac
 hricht“\, entstanden war. Die Gospelmusik war und ist aber nich
 t nur lebendiges Zeugnis eines tiefen christlichen Glaubens\, s
 ondern er entwickelte sich auch mehr und mehr zu einer bestimmt
 en charakteristischen Musikrichtung\, die über die ganze Welt h
 inweg bekannt ist und geschätzt wird. Von den Spirituals unters
 cheidet sich ein Gospel dadurch\, dass er belegbar von einer Pe
 rson komponiert wurde. Obwohl eindeutig religiös besetzt\, ist 
 der Gospel eng mit dem Blues\, Jazz\, Soul und R&B verwandt.\n\
 nDies ist eine Veranstaltung des Concertbüro Frankens mit LUX -
  Junge Kirche Nürnberg\n\n\n\n\n
URL;VALUE=URI:https://www.lux-jungekirche.de/veranstaltung/38/gospel-people/
END:VEVENT
END:VCALENDAR
