BEGIN:VCALENDAR
TZID:Europe/Berlin
VERSION:2.0
PRODID:-//LUX – Junge Kirche//NONSGML LUX Events v1.0//EN
CALSCALE:GREGORIAN
BEGIN:VEVENT
DTSTART:20240204T180000
DTEND:20240204T190000
UID:88717747-3951-4B9E-A8F8-6269751A6632
DTSTAMP:20231221T152240
LOCATION:LUX – Junge Kirche Nürnberg\, Leipziger Str. 25\, 90491 Nürnberg
SUMMARY:LUX: be real – Time!
DESCRIPTION:https://www.lux-jungekirche.de/veranstaltung/71/be-
 real/\n\nbe real\nManchmal ist es leichter\, das wahre ich zu v
 erstecken. \nWas heißt es\, "real" zu sein? Für jeden ist die W
 ahrheit ein bisschen anders.\nIm Gottesdienst wollen wir gemein
 sam danach suchen und darauf hören\, was Gott uns sagen will.\n
 \nUm 18 Ur geht es los.
URL;VALUE=URI:https://www.lux-jungekirche.de/veranstaltung/71/be-real/
END:VEVENT
END:VCALENDAR
